BEGIN:VCALENDAR
VERSION:2.0
PRODID:-//Asociación de Occidente - ECPv6.15.14//NONSGML v1.0//EN
CALSCALE:GREGORIAN
METHOD:PUBLISH
X-WR-CALNAME:Asociación de Occidente
X-ORIGINAL-URL:https://adventistasdeoccidente.org
X-WR-CALDESC:Eventos para Asociación de Occidente
REFRESH-INTERVAL;VALUE=DURATION:PT1H
X-Robots-Tag:noindex
X-PUBLISHED-TTL:PT1H
BEGIN:VTIMEZONE
TZID:America/Mexico_City
BEGIN:STANDARD
TZOFFSETFROM:-0600
TZOFFSETTO:-0600
TZNAME:CST
DTSTART:20230101T000000
END:STANDARD
END:VTIMEZONE
BEGIN:VEVENT
DTSTART;VALUE=DATE:20241003
DTEND;VALUE=DATE:20241004
DTSTAMP:20260420T102511
CREATED:20240928T135642Z
LAST-MODIFIED:20240928T135642Z
UID:164-1727913600-1727999999@adventistasdeoccidente.org
SUMMARY:Reunión MM virtual “Conectadas con Jesús” – UMN
DESCRIPTION:
URL:https://adventistasdeoccidente.org/event/reunion-mm-virtual-conectadas-con-jesus-umn/
LOCATION:Jalisco
CATEGORIES:Union Mexicana del Norte
END:VEVENT
BEGIN:VEVENT
DTSTART;TZID=America/Mexico_City:20240928T150000
DTEND;TZID=America/Mexico_City:20240928T170000
DTSTAMP:20260420T102511
CREATED:20240928T135418Z
LAST-MODIFIED:20240928T135813Z
UID:162-1727535600-1727542800@adventistasdeoccidente.org
SUMMARY:Instrucción Nuevos Dirigentes – Ancianos y Diaconisas
DESCRIPTION:Para ingresar a la reunión es necesario solicitar en enlace a su pastor de Distrito.
URL:https://adventistasdeoccidente.org/event/instruccion-nuevos-dirigentes-ancianos-y-diaconisas/
LOCATION:Jalisco
CATEGORIES:Campo Local
END:VEVENT
BEGIN:VEVENT
DTSTART;VALUE=DATE:20240920
DTEND;VALUE=DATE:20240921
DTSTAMP:20260420T102511
CREATED:20240826T125333Z
LAST-MODIFIED:20240826T125715Z
UID:147-1726790400-1726876799@adventistasdeoccidente.org
SUMMARY:Día del Conquistador
DESCRIPTION:
URL:https://adventistasdeoccidente.org/event/dia-del-conquistador/
LOCATION:Campo Local
CATEGORIES:Departamento de Jovenes
ATTACH;FMTTYPE=image/png:https://adventistasdeoccidente.org/wp-content/uploads/2024/08/bandera_de_conquistadores.png
END:VEVENT
END:VCALENDAR